Package: notameStats Version: 0.99.2 Command: /home/biocbuild/bbs-3.22-bioc/R/bin/R CMD build --keep-empty-dirs --no-resave-data --md5 notameStats StartedAt: 2025-10-22 19:04:09 -0400 (Wed, 22 Oct 2025) EndedAt: 2025-10-22 19:04:56 -0400 (Wed, 22 Oct 2025) EllapsedTime: 47.0 seconds RetCode: 0 Status: OK PackageFile: notameStats_0.99.2.tar.gz PackageFileSize: 256.9 KiB