Package: notameStats Version: 0.99.2 Command: /Library/Frameworks/R.framework/Resources/bin/R CMD INSTALL notameStats StartedAt: 2025-10-23 15:28:32 -0400 (Thu, 23 Oct 2025) EndedAt: 2025-10-23 15:29:06 -0400 (Thu, 23 Oct 2025) EllapsedTime: 34.4 seconds RetCode: 0 Status: OK