Package: notameStats Version: 0.99.2 Command: /Library/Frameworks/R.framework/Resources/bin/R CMD build --keep-empty-dirs --no-resave-data notameStats StartedAt: 2025-10-24 18:04:19 -0400 (Fri, 24 Oct 2025) EndedAt: 2025-10-24 18:05:20 -0400 (Fri, 24 Oct 2025) EllapsedTime: 60.5 seconds RetCode: 0 Status: OK PackageFile: notameStats_0.99.2.tar.gz PackageFileSize: 255.2 KiB