Package: notameStats Version: 0.99.2 Command: /Library/Frameworks/R.framework/Resources/bin/R CMD INSTALL notameStats StartedAt: 2025-10-24 15:20:33 -0400 (Fri, 24 Oct 2025) EndedAt: 2025-10-24 15:20:43 -0400 (Fri, 24 Oct 2025) EllapsedTime: 10.1 seconds RetCode: 0 Status: OK