Package: notameStats Version: 0.99.2 Command: /Library/Frameworks/R.framework/Resources/bin/R CMD check --install=check:notameStats.install-out.txt --library=/Library/Frameworks/R.framework/Resources/library --no-vignettes --timings notameStats_0.99.2.tar.gz StartedAt: 2025-10-24 21:05:38 -0400 (Fri, 24 Oct 2025) EndedAt: 2025-10-24 21:07:29 -0400 (Fri, 24 Oct 2025) EllapsedTime: 110.4 seconds RetCode: 0 Status: OK CheckDir: notameStats.Rcheck Warnings: 0