Package: normr Version: 1.35.0 Command: /home/biocbuild/R/R/bin/R CMD INSTALL normr StartedAt: 2025-10-16 21:41:23 -0000 (Thu, 16 Oct 2025) EndedAt: 2025-10-16 21:42:29 -0000 (Thu, 16 Oct 2025) EllapsedTime: 66.5 seconds RetCode: 0 Status: OK