Package: normr Version: 1.36.0 Command: /Library/Frameworks/R.framework/Resources/bin/R CMD INSTALL normr StartedAt: 2025-11-03 15:34:27 -0500 (Mon, 03 Nov 2025) EndedAt: 2025-11-03 15:35:26 -0500 (Mon, 03 Nov 2025) EllapsedTime: 59.1 seconds RetCode: 0 Status: OK