Package: normr Version: 1.36.0 Command: /Library/Frameworks/R.framework/Resources/bin/R CMD check --install=check:normr.install-out.txt --library=/Library/Frameworks/R.framework/Resources/library --no-vignettes --timings normr_1.36.0.tar.gz StartedAt: 2025-11-03 22:58:57 -0500 (Mon, 03 Nov 2025) EndedAt: 2025-11-03 23:03:51 -0500 (Mon, 03 Nov 2025) EllapsedTime: 293.2 seconds RetCode: 1 Status: ERROR CheckDir: normr.Rcheck Warnings: NA