Package: normr Version: 1.36.0 Command: /Library/Frameworks/R.framework/Resources/bin/R CMD build --keep-empty-dirs --no-resave-data normr StartedAt: 2025-11-03 18:02:44 -0500 (Mon, 03 Nov 2025) EndedAt: 2025-11-03 18:04:15 -0500 (Mon, 03 Nov 2025) EllapsedTime: 91.3 seconds RetCode: 0 Status: OK PackageFile: normr_1.36.0.tar.gz PackageFileSize: 3.76 MiB