Package: nondetects Version: 2.39.1 Command: /Library/Frameworks/R.framework/Resources/bin/R CMD INSTALL nondetects StartedAt: 2025-10-16 15:43:29 -0400 (Thu, 16 Oct 2025) EndedAt: 2025-10-16 15:43:42 -0400 (Thu, 16 Oct 2025) EllapsedTime: 13.4 seconds RetCode: 0 Status: OK