Package: nondetects Version: 2.39.1 Command: /Library/Frameworks/R.framework/Resources/bin/R CMD build --keep-empty-dirs --no-resave-data nondetects StartedAt: 2025-10-16 18:56:01 -0400 (Thu, 16 Oct 2025) EndedAt: 2025-10-16 18:59:07 -0400 (Thu, 16 Oct 2025) EllapsedTime: 186.1 seconds RetCode: 0 Status: OK PackageFile: nondetects_2.39.1.tar.gz PackageFileSize: 137.3 KiB