Package: nondetects Version: 2.39.1 Command: /Library/Frameworks/R.framework/Resources/bin/R CMD check --install=check:nondetects.install-out.txt --library=/Library/Frameworks/R.framework/Resources/library --no-vignettes --timings nondetects_2.39.1.tar.gz StartedAt: 2025-10-19 21:01:53 -0400 (Sun, 19 Oct 2025) EndedAt: 2025-10-19 21:03:43 -0400 (Sun, 19 Oct 2025) EllapsedTime: 110.4 seconds RetCode: 0 Status: OK CheckDir: nondetects.Rcheck Warnings: 0