Package: nnSVG Version: 1.13.1 Command: /home/biocbuild/R/R/bin/R CMD INSTALL nnSVG StartedAt: 2025-10-13 20:57:50 -0000 (Mon, 13 Oct 2025) EndedAt: 2025-10-13 20:58:20 -0000 (Mon, 13 Oct 2025) EllapsedTime: 30.5 seconds RetCode: 0 Status: OK