Package: nnSVG Version: 1.13.1 Command: /home/biocbuild/R/R/bin/R CMD build --keep-empty-dirs --no-resave-data nnSVG StartedAt: 2025-10-14 02:14:07 -0000 (Tue, 14 Oct 2025) EndedAt: 2025-10-14 02:20:12 -0000 (Tue, 14 Oct 2025) EllapsedTime: 365.2 seconds RetCode: 0 Status: OK PackageFile: nnSVG_1.13.1.tar.gz PackageFileSize: 820.2 KiB