Package: nnSVG Version: 1.13.1 Command: rm -rf nnSVG.buildbin-libdir && mkdir nnSVG.buildbin-libdir && /Users/biocbuild/BBS/utils/build-universal.sh nnSVG_1.13.1.tar.gz /Library/Frameworks/R.framework/Resources/bin/R nnSVG.buildbin-libdir StartedAt: 2025-10-24 23:12:35 -0400 (Fri, 24 Oct 2025) EndedAt: 2025-10-24 23:12:45 -0400 (Fri, 24 Oct 2025) EllapsedTime: 10.3 seconds RetCode: 0 Status: OK PackageFile: nnSVG_1.13.1.tgz PackageFileSize: 1.561 MiB