Package: nnNorm Version: 2.74.0 Command: /home/biocbuild/R/R/bin/R CMD check --install=check:nnNorm.install-out.txt --library=/home/biocbuild/R/R/site-library --no-vignettes --timings nnNorm_2.74.0.tar.gz StartedAt: 2025-11-21 13:38:41 -0000 (Fri, 21 Nov 2025) EndedAt: 2025-11-21 13:40:28 -0000 (Fri, 21 Nov 2025) EllapsedTime: 107.1 seconds RetCode: 0 Status: OK CheckDir: nnNorm.Rcheck Warnings: 0