Package: nnNorm Version: 2.74.0 Command: /home/biocbuild/R/R/bin/R CMD build --keep-empty-dirs --no-resave-data nnNorm StartedAt: 2025-11-21 04:26:02 -0000 (Fri, 21 Nov 2025) EndedAt: 2025-11-21 04:26:46 -0000 (Fri, 21 Nov 2025) EllapsedTime: 44.0 seconds RetCode: 0 Status: OK PackageFile: nnNorm_2.74.0.tar.gz PackageFileSize: 1.583 MiB