Package: nnNorm Version: 2.73.0 Command: F:\biocbuild\bbs-3.22-bioc\R\bin\R.exe CMD INSTALL nnNorm StartedAt: 2025-08-14 15:21:39 -0400 (Thu, 14 Aug 2025) EndedAt: 2025-08-14 15:22:00 -0400 (Thu, 14 Aug 2025) EllapsedTime: 21.4 seconds RetCode: 0 Status: OK