Package: nnNorm Version: 2.73.0 Command: chmod a+r nnNorm -R && F:\biocbuild\bbs-3.22-bioc\R\bin\R.exe CMD build --keep-empty-dirs --no-resave-data nnNorm StartedAt: 2025-08-14 21:56:07 -0400 (Thu, 14 Aug 2025) EndedAt: 2025-08-14 21:57:18 -0400 (Thu, 14 Aug 2025) EllapsedTime: 71.3 seconds RetCode: 0 Status: OK PackageFile: nnNorm_2.73.0.tar.gz PackageFileSize: 1.495 MiB