Package: ngsReports Version: 2.11.1 Command: /home/biocbuild/R/R/bin/R CMD build --keep-empty-dirs --no-resave-data ngsReports StartedAt: 2025-10-17 03:10:47 -0000 (Fri, 17 Oct 2025) EndedAt: 2025-10-17 03:12:14 -0000 (Fri, 17 Oct 2025) EllapsedTime: 87.1 seconds RetCode: 0 Status: OK PackageFile: ngsReports_2.11.1.tar.gz PackageFileSize: 1.888 MiB