Package: ngsReports Version: 2.11.1 Command: /home/biocbuild/bbs-3.22-bioc/R/bin/R CMD INSTALL ngsReports StartedAt: 2025-10-19 15:38:59 -0400 (Sun, 19 Oct 2025) EndedAt: 2025-10-19 15:39:17 -0400 (Sun, 19 Oct 2025) EllapsedTime: 18.5 seconds RetCode: 0 Status: OK