Package: ngsReports Version: 2.11.1 Command: /Library/Frameworks/R.framework/Resources/bin/R CMD INSTALL ngsReports StartedAt: 2025-10-19 15:35:58 -0400 (Sun, 19 Oct 2025) EndedAt: 2025-10-19 15:36:29 -0400 (Sun, 19 Oct 2025) EllapsedTime: 30.7 seconds RetCode: 0 Status: OK