Package: ngsReports Version: 2.11.1 Command: /Library/Frameworks/R.framework/Resources/bin/R CMD check --install=check:ngsReports.install-out.txt --library=/Library/Frameworks/R.framework/Resources/library --no-vignettes --timings ngsReports_2.11.1.tar.gz StartedAt: 2025-10-20 00:17:33 -0400 (Mon, 20 Oct 2025) EndedAt: 2025-10-20 00:21:54 -0400 (Mon, 20 Oct 2025) EllapsedTime: 261.0 seconds RetCode: 0 Status: OK CheckDir: ngsReports.Rcheck Warnings: 0