Package: ngsReports Version: 2.11.1 Command: /Library/Frameworks/R.framework/Resources/bin/R CMD build --keep-empty-dirs --no-resave-data ngsReports StartedAt: 2025-10-19 18:30:24 -0400 (Sun, 19 Oct 2025) EndedAt: 2025-10-19 18:31:58 -0400 (Sun, 19 Oct 2025) EllapsedTime: 94.1 seconds RetCode: 0 Status: OK PackageFile: ngsReports_2.11.1.tar.gz PackageFileSize: 3.184 MiB