Package: ngsReports Version: 2.11.1 Command: rm -rf ngsReports.buildbin-libdir && mkdir ngsReports.buildbin-libdir && /Users/biocbuild/BBS/utils/build-universal.sh ngsReports_2.11.1.tar.gz /Library/Frameworks/R.framework/Resources/bin/R ngsReports.buildbin-libdir StartedAt: 2025-10-20 03:22:34 -0400 (Mon, 20 Oct 2025) EndedAt: 2025-10-20 03:23:06 -0400 (Mon, 20 Oct 2025) EllapsedTime: 32.4 seconds RetCode: 0 Status: OK PackageFile: ngsReports_2.11.1.tgz PackageFileSize: 3.79 MiB