Package: ngsReports Version: 2.11.1 Maintainer: Stevie Pederson MaintainerEmail: stephen.pederson.au at gmail.com git_url: https://git.bioconductor.org/packages/ngsReports git_branch: devel git_last_commit: 15ce45d git_last_commit_date: 2025-09-13 11:58:00 -0400 (Sat, 13 Sep 2025)