Package: netresponse Version: 1.70.0 Command: /Library/Frameworks/R.framework/Resources/bin/R CMD check --install=check:netresponse.install-out.txt --library=/Library/Frameworks/R.framework/Resources/library --no-vignettes --timings netresponse_1.70.0.tar.gz StartedAt: 2025-11-10 21:21:58 -0500 (Mon, 10 Nov 2025) EndedAt: 2025-11-10 21:22:31 -0500 (Mon, 10 Nov 2025) EllapsedTime: 33.4 seconds RetCode: 0 Status: OK CheckDir: netresponse.Rcheck Warnings: 0