Package: netresponse Version: 1.70.0 Command: /Library/Frameworks/R.framework/Resources/bin/R CMD build --keep-empty-dirs --no-resave-data netresponse StartedAt: 2025-11-10 17:13:14 -0500 (Mon, 10 Nov 2025) EndedAt: 2025-11-10 17:13:21 -0500 (Mon, 10 Nov 2025) EllapsedTime: 7.1 seconds RetCode: 0 Status: OK PackageFile: netresponse_1.70.0.tar.gz PackageFileSize: 975.5 KiB