Package: netresponse Version: 1.70.0 Command: rm -rf netresponse.buildbin-libdir && mkdir netresponse.buildbin-libdir && /Users/biocbuild/BBS/utils/build-universal.sh netresponse_1.70.0.tar.gz /Library/Frameworks/R.framework/Resources/bin/R netresponse.buildbin-libdir StartedAt: 2025-11-10 23:29:33 -0500 (Mon, 10 Nov 2025) EndedAt: 2025-11-10 23:29:39 -0500 (Mon, 10 Nov 2025) EllapsedTime: 6.1 seconds RetCode: 0 Status: OK PackageFile: netresponse_1.70.0.tgz PackageFileSize: 1.294 MiB