Package: netprioR Version: 1.35.0 Command: F:\biocbuild\bbs-3.22-bioc\R\bin\R.exe CMD check --no-multiarch --install=check:netprioR.install-out.txt --library=F:\biocbuild\bbs-3.22-bioc\R\library --no-vignettes --timings netprioR_1.35.0.tar.gz StartedAt: 2025-08-15 05:51:46 -0400 (Fri, 15 Aug 2025) EndedAt: 2025-08-15 05:53:24 -0400 (Fri, 15 Aug 2025) EllapsedTime: 97.9 seconds RetCode: 0 Status: OK CheckDir: netprioR.Rcheck Warnings: 0