Package: netprioR Version: 1.35.0 Command: chmod a+r netprioR -R && F:\biocbuild\bbs-3.22-bioc\R\bin\R.exe CMD build --keep-empty-dirs --no-resave-data netprioR StartedAt: 2025-08-14 21:55:00 -0400 (Thu, 14 Aug 2025) EndedAt: 2025-08-14 21:56:07 -0400 (Thu, 14 Aug 2025) EllapsedTime: 67.5 seconds RetCode: 0 Status: OK PackageFile: netprioR_1.35.0.tar.gz PackageFileSize: 418.1 KiB