Package: netprioR Version: 1.35.0 Command: rm -rf netprioR.buildbin-libdir && mkdir netprioR.buildbin-libdir && F:\biocbuild\bbs-3.22-bioc\R\bin\R.exe CMD INSTALL --build --library=netprioR.buildbin-libdir netprioR_1.35.0.tar.gz StartedAt: 2025-08-15 10:50:37 -0400 (Fri, 15 Aug 2025) EndedAt: 2025-08-15 10:51:07 -0400 (Fri, 15 Aug 2025) EllapsedTime: 29.3 seconds RetCode: 0 Status: OK PackageFile: netprioR_1.35.0.zip PackageFileSize: 601.1 KiB