Package: netprioR Version: 1.35.0 Command: /home/biocbuild/bbs-3.22-bioc/R/bin/R CMD INSTALL netprioR StartedAt: 2025-10-19 15:09:46 -0400 (Sun, 19 Oct 2025) EndedAt: 2025-10-19 15:09:59 -0400 (Sun, 19 Oct 2025) EllapsedTime: 13.0 seconds RetCode: 0 Status: OK