Package: netprioR Version: 1.35.0 Command: /home/biocbuild/bbs-3.22-bioc/R/bin/R CMD check --install=check:netprioR.install-out.txt --library=/home/biocbuild/bbs-3.22-bioc/R/site-library --timings netprioR_1.35.0.tar.gz StartedAt: 2025-10-20 02:39:43 -0400 (Mon, 20 Oct 2025) EndedAt: 2025-10-20 02:41:31 -0400 (Mon, 20 Oct 2025) EllapsedTime: 108.1 seconds RetCode: 0 Status: OK CheckDir: netprioR.Rcheck Warnings: 0