Package: netprioR Version: 1.35.0 Command: /home/biocbuild/bbs-3.22-bioc/R/bin/R CMD build --keep-empty-dirs --no-resave-data --md5 netprioR StartedAt: 2025-10-20 18:57:19 -0400 (Mon, 20 Oct 2025) EndedAt: 2025-10-20 18:57:48 -0400 (Mon, 20 Oct 2025) EllapsedTime: 29.0 seconds RetCode: 0 Status: OK PackageFile: netprioR_1.35.0.tar.gz PackageFileSize: 651.8 KiB