Package: nethet Version: 1.42.0 Command: /Library/Frameworks/R.framework/Resources/bin/R CMD check --install=check:nethet.install-out.txt --library=/Library/Frameworks/R.framework/Resources/library --no-vignettes --timings nethet_1.42.0.tar.gz StartedAt: 2025-11-18 11:14:56 -0500 (Tue, 18 Nov 2025) EndedAt: 2025-11-18 11:20:51 -0500 (Tue, 18 Nov 2025) EllapsedTime: 355.2 seconds RetCode: 0 Status: WARNINGS CheckDir: nethet.Rcheck Warnings: 1