Package: nethet Version: 1.42.0 Command: /Library/Frameworks/R.framework/Resources/bin/R CMD build --keep-empty-dirs --no-resave-data nethet StartedAt: 2025-11-18 00:39:03 -0500 (Tue, 18 Nov 2025) EndedAt: 2025-11-18 00:44:48 -0500 (Tue, 18 Nov 2025) EllapsedTime: 345.4 seconds RetCode: 0 Status: OK PackageFile: nethet_1.42.0.tar.gz PackageFileSize: 704.3 KiB