Package: nethet Version: 1.42.0 Command: /Library/Frameworks/R.framework/Resources/bin/R CMD build --keep-empty-dirs --no-resave-data nethet StartedAt: 2025-11-17 23:22:38 -0500 (Mon, 17 Nov 2025) EndedAt: 2025-11-17 23:24:14 -0500 (Mon, 17 Nov 2025) EllapsedTime: 95.9 seconds RetCode: 0 Status: OK PackageFile: nethet_1.42.0.tar.gz PackageFileSize: 704.9 KiB