Package: netSmooth Version: 1.29.0 Command: /home/biocbuild/R/R/bin/R CMD INSTALL netSmooth StartedAt: 2025-10-20 21:23:39 -0000 (Mon, 20 Oct 2025) EndedAt: 2025-10-20 21:24:41 -0000 (Mon, 20 Oct 2025) EllapsedTime: 62.1 seconds RetCode: 0 Status: OK