Package: netSmooth Version: 1.29.0 Command: /home/biocbuild/bbs-3.22-bioc/R/bin/R CMD INSTALL netSmooth StartedAt: 2025-10-19 15:58:37 -0400 (Sun, 19 Oct 2025) EndedAt: 2025-10-19 15:59:26 -0400 (Sun, 19 Oct 2025) EllapsedTime: 48.5 seconds RetCode: 0 Status: OK