Package: netSmooth Version: 1.29.0 Command: /home/biocbuild/bbs-3.22-bioc/R/bin/R CMD check --install=check:netSmooth.install-out.txt --library=/home/biocbuild/bbs-3.22-bioc/R/site-library --timings netSmooth_1.29.0.tar.gz StartedAt: 2025-10-20 02:40:58 -0400 (Mon, 20 Oct 2025) EndedAt: 2025-10-20 02:47:48 -0400 (Mon, 20 Oct 2025) EllapsedTime: 410.3 seconds RetCode: 0 Status: OK CheckDir: netSmooth.Rcheck Warnings: 0