Package: netSmooth Version: 1.29.0 Command: /Library/Frameworks/R.framework/Resources/bin/R CMD INSTALL netSmooth StartedAt: 2025-10-19 15:52:05 -0400 (Sun, 19 Oct 2025) EndedAt: 2025-10-19 15:53:11 -0400 (Sun, 19 Oct 2025) EllapsedTime: 66.3 seconds RetCode: 0 Status: OK