Package: netSmooth Version: 1.29.0 Command: /Library/Frameworks/R.framework/Resources/bin/R CMD build --keep-empty-dirs --no-resave-data netSmooth StartedAt: 2025-10-19 17:10:47 -0400 (Sun, 19 Oct 2025) EndedAt: 2025-10-19 17:11:35 -0400 (Sun, 19 Oct 2025) EllapsedTime: 47.5 seconds RetCode: 0 Status: OK PackageFile: netSmooth_1.29.0.tar.gz PackageFileSize: 3.071 MiB