Package: netSmooth Version: 1.29.0 Command: rm -rf netSmooth.buildbin-libdir && mkdir netSmooth.buildbin-libdir && /Users/biocbuild/BBS/utils/build-universal.sh netSmooth_1.29.0.tar.gz /Library/Frameworks/R.framework/Resources/bin/R netSmooth.buildbin-libdir StartedAt: 2025-10-19 23:08:58 -0400 (Sun, 19 Oct 2025) EndedAt: 2025-10-19 23:09:19 -0400 (Sun, 19 Oct 2025) EllapsedTime: 20.4 seconds RetCode: 0 Status: OK PackageFile: netSmooth_1.29.0.tgz PackageFileSize: 4.102 MiB