Package: nempi Version: 1.17.0 Command: /home/biocbuild/R/R/bin/R CMD build --keep-empty-dirs --no-resave-data nempi StartedAt: 2025-10-03 01:49:34 -0000 (Fri, 03 Oct 2025) EndedAt: 2025-10-03 01:50:38 -0000 (Fri, 03 Oct 2025) EllapsedTime: 64.0 seconds RetCode: 0 Status: OK PackageFile: nempi_1.17.0.tar.gz PackageFileSize: 397.2 KiB