Package: ncRNAtools Version: 1.19.0 Command: /home/biocbuild/R/R/bin/R CMD build --keep-empty-dirs --no-resave-data ncRNAtools StartedAt: 2025-10-21 01:40:51 -0000 (Tue, 21 Oct 2025) EndedAt: 2025-10-21 01:41:50 -0000 (Tue, 21 Oct 2025) EllapsedTime: 59.0 seconds RetCode: 0 Status: OK PackageFile: ncRNAtools_1.19.0.tar.gz PackageFileSize: 308.5 KiB