Package: ncRNAtools Version: 1.19.0 Command: F:\biocbuild\bbs-3.22-bioc\R\bin\R.exe CMD check --no-multiarch --install=check:ncRNAtools.install-out.txt --library=F:\biocbuild\bbs-3.22-bioc\R\library --no-vignettes --timings ncRNAtools_1.19.0.tar.gz StartedAt: 2025-08-15 05:49:59 -0400 (Fri, 15 Aug 2025) EndedAt: 2025-08-15 05:52:12 -0400 (Fri, 15 Aug 2025) EllapsedTime: 133.6 seconds RetCode: 0 Status: OK CheckDir: ncRNAtools.Rcheck Warnings: 0