Package: ncRNAtools Version: 1.19.0 Command: /Library/Frameworks/R.framework/Resources/bin/R CMD INSTALL ncRNAtools StartedAt: 2025-10-19 15:20:12 -0400 (Sun, 19 Oct 2025) EndedAt: 2025-10-19 15:20:31 -0400 (Sun, 19 Oct 2025) EllapsedTime: 19.0 seconds RetCode: 0 Status: OK