Package: ncRNAtools Version: 1.19.0 Command: /Library/Frameworks/R.framework/Resources/bin/R CMD check --install=check:ncRNAtools.install-out.txt --library=/Library/Frameworks/R.framework/Resources/library --no-vignettes --timings ncRNAtools_1.19.0.tar.gz StartedAt: 2025-10-20 00:14:43 -0400 (Mon, 20 Oct 2025) EndedAt: 2025-10-20 00:17:07 -0400 (Mon, 20 Oct 2025) EllapsedTime: 144.6 seconds RetCode: 0 Status: OK CheckDir: ncRNAtools.Rcheck Warnings: 0