Package: ncRNAtools Version: 1.19.0 Command: /Library/Frameworks/R.framework/Resources/bin/R CMD INSTALL ncRNAtools StartedAt: 2025-10-20 15:11:05 -0400 (Mon, 20 Oct 2025) EndedAt: 2025-10-20 15:11:10 -0400 (Mon, 20 Oct 2025) EllapsedTime: 5.3 seconds RetCode: 0 Status: OK